BEGIN:VCALENDAR
VERSION:2.0
PRODID:icalendar-ruby
CALSCALE:GREGORIAN
METHOD:PUBLISH
BEGIN:VEVENT
DTSTAMP:20260423T103216Z
UID:7-580816@pebblehill.tithelysetup8.com
DTSTART:20260920T220000Z
DTEND:20260920T230000Z
CLASS:PUBLIC
CREATED:20260422T220009
DESCRIPTION:Sunday Night Teaching
LAST-MODIFIED:20260422T220009
LOCATION:5755 Sandhill Road
SUMMARY:Sunday Night Teaching
URL;VALUE=URI:https://pebblehill.church/events/sunday-night-teaching/2026-0
 9-20
END:VEVENT
END:VCALENDAR
