BEGIN:VCALENDAR
VERSION:2.0
PRODID:icalendar-ruby
CALSCALE:GREGORIAN
METHOD:PUBLISH
BEGIN:VEVENT
DTSTAMP:20260423T131816Z
UID:7-581158@pebblehill.tithelysetup8.com
DTSTART:20261004T220000Z
DTEND:20261004T230000Z
CLASS:PUBLIC
CREATED:20260423T072946
DESCRIPTION:Sunday Night Teaching
LAST-MODIFIED:20260423T072946
LOCATION:5755 Sandhill Road
SUMMARY:Sunday Night Teaching
URL;VALUE=URI:https://pebblehill.church/events/sunday-night-teaching/2026-1
 0-04
END:VEVENT
END:VCALENDAR
