BEGIN:VCALENDAR
VERSION:2.0
PRODID:icalendar-ruby
CALSCALE:GREGORIAN
METHOD:PUBLISH
BEGIN:VEVENT
DTSTAMP:20260423T155729Z
UID:7-581500@pebblehill.tithelysetup8.com
DTSTART:20261018T220000Z
DTEND:20261018T230000Z
CLASS:PUBLIC
CREATED:20260423T102337
DESCRIPTION:Sunday Night Teaching
LAST-MODIFIED:20260423T102337
LOCATION:5755 Sandhill Road
SUMMARY:Sunday Night Teaching
URL;VALUE=URI:https://pebblehill.church/events/sunday-night-teaching/2026-1
 0-18
END:VEVENT
END:VCALENDAR
