BEGIN:VCALENDAR
VERSION:2.0
PRODID:icalendar-ruby
CALSCALE:GREGORIAN
METHOD:PUBLISH
BEGIN:VEVENT
DTSTAMP:20260423T172058Z
UID:7-581841@pebblehill.tithelysetup8.com
DTSTART:20261025T220000Z
DTEND:20261025T230000Z
CLASS:PUBLIC
CREATED:20260423T131817
DESCRIPTION:Sunday Night Teaching
LAST-MODIFIED:20260423T131817
LOCATION:5755 Sandhill Road
SUMMARY:Sunday Night Teaching
URL;VALUE=URI:https://pebblehill.church/events/sunday-night-teaching/2026-1
 0-25
END:VEVENT
END:VCALENDAR
