BEGIN:VCALENDAR
VERSION:2.0
PRODID:icalendar-ruby
CALSCALE:GREGORIAN
METHOD:PUBLISH
BEGIN:VEVENT
DTSTAMP:20260423T184713Z
UID:7-581842@pebblehill.tithelysetup8.com
DTSTART:20261101T230000Z
DTEND:20261102T000000Z
CLASS:PUBLIC
CREATED:20260423T131817
DESCRIPTION:Sunday Night Teaching
LAST-MODIFIED:20260423T131817
LOCATION:5755 Sandhill Road
SUMMARY:Sunday Night Teaching
URL;VALUE=URI:https://pebblehill.church/events/sunday-night-teaching/2026-1
 1-01
END:VEVENT
END:VCALENDAR
